BEGIN:VCALENDAR
VERSION:2.0
PRODID:-//hacksw/handcal//NONSGML v1.0//EN
BEGIN:VEVENT
DTSTART:20120401
DTEND:20120401T170000Z
SUMMARY:RH - 1ère journée (Château-Thébaud-Loi)
LOCATION:Château-Thébaud (Loi)
DESCRIPTION:https://kayak-polo.info/kpdetails.php?Compet=REG04&Group=REG&Saison=2012&J=892
URL:https%3A%2F%2Fwww.kayak-polo.info%2Fkpdetails.php%3FCompet%3DREG04%26Group%3DREG%26Saison%3D2012%26%26J%3D892
END:VEVENT
END:VCALENDAR
