BEGIN:VCALENDAR
VERSION:2.0
PRODID:-//hacksw/handcal//NONSGML v1.0//EN
BEGIN:VEVENT
DTSTART:20151010
DTEND:20151011T170000Z
SUMMARY:Championnat -21 ans F (Louvroil-59)
LOCATION:Louvroil (59)
DESCRIPTION:https://kayak-polo.info/kpdetails.php?Compet=N21F&Group=N21&Saison=2015&typ=CP
URL:https%3A%2F%2Fwww.kayak-polo.info%2Fkpdetails.php%3FCompet%3DN21F%26Group%3DN21%26Saison%3D2015%26%26typ%3DCP
END:VEVENT
END:VCALENDAR
